Package: RNAseqCovarImpute Version: 1.8.0 Command: /Library/Frameworks/R.framework/Resources/bin/R CMD build --keep-empty-dirs --no-resave-data RNAseqCovarImpute StartedAt: 2025-11-10 17:33:42 -0500 (Mon, 10 Nov 2025) EndedAt: 2025-11-10 17:34:03 -0500 (Mon, 10 Nov 2025) EllapsedTime: 21.2 seconds RetCode: 0 Status: OK PackageFile: RNAseqCovarImpute_1.8.0.tar.gz PackageFileSize: 767.7 KiB