Package: RNAsense Version: 1.24.0 Command: /home/biocbuild/bbs-3.22-bioc/R/bin/R CMD INSTALL RNAsense StartedAt: 2025-11-13 15:18:22 -0500 (Thu, 13 Nov 2025) EndedAt: 2025-11-13 15:18:46 -0500 (Thu, 13 Nov 2025) EllapsedTime: 23.7 seconds RetCode: 0 Status: OK