Package: RNAsense Version: 1.24.0 Command: /home/biocbuild/bbs-3.22-bioc/R/bin/R CMD build --keep-empty-dirs --no-resave-data --md5 RNAsense StartedAt: 2025-11-13 19:48:06 -0500 (Thu, 13 Nov 2025) EndedAt: 2025-11-13 19:52:25 -0500 (Thu, 13 Nov 2025) EllapsedTime: 259.2 seconds RetCode: 0 Status: OK PackageFile: RNAsense_1.24.0.tar.gz PackageFileSize: 899.8 KiB