Package: RNAmodR Version: 1.24.0 Command: /home/biocbuild/R/R/bin/R CMD INSTALL RNAmodR StartedAt: 2025-11-13 21:55:26 -0000 (Thu, 13 Nov 2025) EndedAt: 2025-11-13 21:57:03 -0000 (Thu, 13 Nov 2025) EllapsedTime: 96.5 seconds RetCode: 0 Status: OK