Package: RNAmodR Version: 1.24.0 Command: /home/biocbuild/R/R/bin/R CMD build --keep-empty-dirs --no-resave-data RNAmodR StartedAt: 2025-11-14 04:45:00 -0000 (Fri, 14 Nov 2025) EndedAt: 2025-11-14 04:49:33 -0000 (Fri, 14 Nov 2025) EllapsedTime: 273.1 seconds RetCode: 0 Status: OK PackageFile: RNAmodR_1.24.0.tar.gz PackageFileSize: 1.431 MiB