Package: RNAmodR Version: 1.24.0 Command: /home/biocbuild/bbs-3.22-bioc/R/bin/R CMD build --keep-empty-dirs --no-resave-data --md5 RNAmodR StartedAt: 2025-11-11 19:48:43 -0500 (Tue, 11 Nov 2025) EndedAt: 2025-11-11 19:51:36 -0500 (Tue, 11 Nov 2025) EllapsedTime: 173.1 seconds RetCode: 0 Status: OK PackageFile: RNAmodR_1.24.0.tar.gz PackageFileSize: 1.534 MiB