Package: RNAmodR Version: 1.22.0 Command: /home/biocbuild/bbs-3.21-bioc/R/bin/R CMD INSTALL RNAmodR StartedAt: 2025-10-08 15:45:47 -0400 (Wed, 08 Oct 2025) EndedAt: 2025-10-08 15:47:03 -0400 (Wed, 08 Oct 2025) EllapsedTime: 75.6 seconds RetCode: 0 Status: OK