Package: RNAmodR Version: 1.22.0 Command: /home/biocbuild/bbs-3.21-bioc/R/bin/R CMD build --keep-empty-dirs --no-resave-data RNAmodR StartedAt: 2025-10-08 19:30:40 -0400 (Wed, 08 Oct 2025) EndedAt: 2025-10-08 19:33:42 -0400 (Wed, 08 Oct 2025) EllapsedTime: 182.2 seconds RetCode: 0 Status: OK PackageFile: RNAmodR_1.22.0.tar.gz PackageFileSize: 1.53 MiB