Package: RNAmodR Version: 1.22.0 Command: /Library/Frameworks/R.framework/Resources/bin/R CMD build --keep-empty-dirs --no-resave-data RNAmodR StartedAt: 2025-10-13 22:04:45 -0400 (Mon, 13 Oct 2025) EndedAt: 2025-10-13 22:11:15 -0400 (Mon, 13 Oct 2025) EllapsedTime: 389.8 seconds RetCode: 0 Status: OK PackageFile: RNAmodR_1.22.0.tar.gz PackageFileSize: 1.508 MiB