Package: RNAmodR Version: 1.22.0 Command: rm -rf RNAmodR.buildbin-libdir && mkdir RNAmodR.buildbin-libdir && /Users/biocbuild/BBS/utils/build-universal.sh RNAmodR_1.22.0.tar.gz /Library/Frameworks/R.framework/Resources/bin/R RNAmodR.buildbin-libdir StartedAt: 2025-10-14 14:35:56 -0400 (Tue, 14 Oct 2025) EndedAt: 2025-10-14 14:39:23 -0400 (Tue, 14 Oct 2025) EllapsedTime: 207.0 seconds RetCode: 0 Status: OK PackageFile: RNAmodR_1.22.0.tgz PackageFileSize: 2.974 MiB