Package: RNAmodR Version: 1.22.0 Command: /Library/Frameworks/R.framework/Resources/bin/R CMD INSTALL RNAmodR StartedAt: 2025-10-06 17:45:18 -0400 (Mon, 06 Oct 2025) EndedAt: 2025-10-06 17:46:46 -0400 (Mon, 06 Oct 2025) EllapsedTime: 87.7 seconds RetCode: 0 Status: OK