Package: RNAmodR Version: 1.22.0 Command: /Library/Frameworks/R.framework/Resources/bin/R CMD build --keep-empty-dirs --no-resave-data RNAmodR StartedAt: 2025-10-07 08:18:32 -0400 (Tue, 07 Oct 2025) EndedAt: 2025-10-07 08:22:46 -0400 (Tue, 07 Oct 2025) EllapsedTime: 254.5 seconds RetCode: 0 Status: OK PackageFile: RNAmodR_1.22.0.tar.gz PackageFileSize: 1.508 MiB