Package: RNAmodR.RiboMethSeq Version: 1.24.0 Command: /home/biocbuild/R/R/bin/R CMD check --install=check:RNAmodR.RiboMethSeq.install-out.txt --library=/home/biocbuild/R/R/site-library --no-vignettes --timings RNAmodR.RiboMethSeq_1.24.0.tar.gz StartedAt: 2025-11-11 13:59:25 -0000 (Tue, 11 Nov 2025) EndedAt: 2025-11-11 14:10:04 -0000 (Tue, 11 Nov 2025) EllapsedTime: 638.2 seconds RetCode: 0 Status: OK CheckDir: RNAmodR.RiboMethSeq.Rcheck Warnings: 0