Package: RNAmodR.RiboMethSeq Version: 1.24.0 Command: /home/biocbuild/bbs-3.22-bioc/R/bin/R CMD INSTALL RNAmodR.RiboMethSeq StartedAt: 2025-11-13 15:50:33 -0500 (Thu, 13 Nov 2025) EndedAt: 2025-11-13 15:51:30 -0500 (Thu, 13 Nov 2025) EllapsedTime: 57.4 seconds RetCode: 0 Status: OK