Package: RNAmodR.RiboMethSeq Version: 1.24.0 Command: /home/biocbuild/bbs-3.22-bioc/R/bin/R CMD build --keep-empty-dirs --no-resave-data --md5 RNAmodR.RiboMethSeq StartedAt: 2025-11-11 19:49:32 -0500 (Tue, 11 Nov 2025) EndedAt: 2025-11-11 19:51:24 -0500 (Tue, 11 Nov 2025) EllapsedTime: 112.1 seconds RetCode: 0 Status: OK PackageFile: RNAmodR.RiboMethSeq_1.24.0.tar.gz PackageFileSize: 642.8 KiB