Package: RNAmodR.RiboMethSeq Version: 1.22.0 Command: /Library/Frameworks/R.framework/Resources/bin/R CMD check --install=check:RNAmodR.RiboMethSeq.install-out.txt --library=/Library/Frameworks/R.framework/Resources/library --no-vignettes --timings RNAmodR.RiboMethSeq_1.22.0.tar.gz StartedAt: 2025-09-26 09:12:58 -0400 (Fri, 26 Sep 2025) EndedAt: 2025-09-26 09:26:13 -0400 (Fri, 26 Sep 2025) EllapsedTime: 795.1 seconds RetCode: 0 Status: OK CheckDir: RNAmodR.RiboMethSeq.Rcheck Warnings: 0