Package: RNAmodR.ML Version: 1.24.0 Command: /home/biocbuild/R/R/bin/R CMD build --keep-empty-dirs --no-resave-data RNAmodR.ML StartedAt: 2025-11-11 04:36:23 -0000 (Tue, 11 Nov 2025) EndedAt: 2025-11-11 04:41:13 -0000 (Tue, 11 Nov 2025) EllapsedTime: 290.1 seconds RetCode: 0 Status: OK PackageFile: RNAmodR.ML_1.24.0.tar.gz PackageFileSize: 1.37 MiB