Package: RNAmodR.ML Version: 1.22.0 Command: chmod a+r RNAmodR.ML -R && E:\biocbuild\bbs-3.21-bioc\R\bin\R.exe CMD build --keep-empty-dirs --no-resave-data RNAmodR.ML StartedAt: 2025-08-14 21:48:22 -0400 (Thu, 14 Aug 2025) EndedAt: 2025-08-14 21:52:44 -0400 (Thu, 14 Aug 2025) EllapsedTime: 261.7 seconds RetCode: 0 Status: OK PackageFile: RNAmodR.ML_1.22.0.tar.gz PackageFileSize: 1.274 MiB