Package: RNAmodR.ML Version: 1.22.0 Command: rm -rf RNAmodR.ML.buildbin-libdir && mkdir RNAmodR.ML.buildbin-libdir && E:\biocbuild\bbs-3.21-bioc\R\bin\R.exe CMD INSTALL --build --library=RNAmodR.ML.buildbin-libdir RNAmodR.ML_1.22.0.tar.gz StartedAt: 2025-08-15 10:08:23 -0400 (Fri, 15 Aug 2025) EndedAt: 2025-08-15 10:09:43 -0400 (Fri, 15 Aug 2025) EllapsedTime: 80.5 seconds RetCode: 0 Status: OK PackageFile: RNAmodR.ML_1.22.0.zip PackageFileSize: 1.693 MiB