Package: RNAmodR.ML Version: 1.24.0 Command: /home/biocbuild/bbs-3.22-bioc/R/bin/R CMD INSTALL RNAmodR.ML StartedAt: 2025-11-11 15:53:44 -0500 (Tue, 11 Nov 2025) EndedAt: 2025-11-11 15:54:44 -0500 (Tue, 11 Nov 2025) EllapsedTime: 60.2 seconds RetCode: 0 Status: OK