Package: RNAmodR.ML Version: 1.24.0 Command: /home/biocbuild/bbs-3.22-bioc/R/bin/R CMD check --install=check:RNAmodR.ML.install-out.txt --library=/home/biocbuild/bbs-3.22-bioc/R/site-library --timings RNAmodR.ML_1.24.0.tar.gz StartedAt: 2025-11-12 03:27:43 -0500 (Wed, 12 Nov 2025) EndedAt: 2025-11-12 03:37:37 -0500 (Wed, 12 Nov 2025) EllapsedTime: 594.6 seconds RetCode: 0 Status: OK CheckDir: RNAmodR.ML.Rcheck Warnings: 0