Package: RNAmodR.AlkAnilineSeq Version: 1.24.0 Command: /home/biocbuild/R/R/bin/R CMD INSTALL RNAmodR.AlkAnilineSeq StartedAt: 2025-11-13 21:57:16 -0000 (Thu, 13 Nov 2025) EndedAt: 2025-11-13 21:58:30 -0000 (Thu, 13 Nov 2025) EllapsedTime: 73.9 seconds RetCode: 0 Status: OK