Package: RNAmodR.AlkAnilineSeq Version: 1.22.0 Command: /Library/Frameworks/R.framework/Resources/bin/R CMD INSTALL RNAmodR.AlkAnilineSeq StartedAt: 2025-10-13 16:26:47 -0400 (Mon, 13 Oct 2025) EndedAt: 2025-10-13 16:28:47 -0400 (Mon, 13 Oct 2025) EllapsedTime: 119.5 seconds RetCode: 0 Status: OK