Package: RNAdecay Version: 1.30.0 Command: /home/biocbuild/bbs-3.22-bioc/R/bin/R CMD INSTALL RNAdecay StartedAt: 2025-11-11 15:12:19 -0500 (Tue, 11 Nov 2025) EndedAt: 2025-11-11 15:19:42 -0500 (Tue, 11 Nov 2025) EllapsedTime: 443.8 seconds RetCode: 0 Status: OK