Package: RNAdecay Version: 1.30.0 Command: /home/biocbuild/bbs-3.22-bioc/R/bin/R CMD build --keep-empty-dirs --no-resave-data --md5 RNAdecay StartedAt: 2025-11-11 19:48:39 -0500 (Tue, 11 Nov 2025) EndedAt: 2025-11-11 19:58:46 -0500 (Tue, 11 Nov 2025) EllapsedTime: 606.5 seconds RetCode: 1 Status: ERROR PackageFile: None PackageFileSize: NA