Package: RNAdecay Version: 1.28.0 Command: /home/biocbuild/R/R/bin/R CMD INSTALL RNAdecay StartedAt: 2025-10-13 20:19:07 -0000 (Mon, 13 Oct 2025) EndedAt: 2025-10-13 20:30:49 -0000 (Mon, 13 Oct 2025) EllapsedTime: 701.8 seconds RetCode: 0 Status: OK