Package: RNASeqPower Version: 1.50.0 Command: /home/biocbuild/bbs-3.22-bioc/R/bin/R CMD check --install=check:RNASeqPower.install-out.txt --library=/home/biocbuild/bbs-3.22-bioc/R/site-library --timings RNASeqPower_1.50.0.tar.gz StartedAt: 2025-11-15 03:43:37 -0500 (Sat, 15 Nov 2025) EndedAt: 2025-11-15 03:43:54 -0500 (Sat, 15 Nov 2025) EllapsedTime: 17.0 seconds RetCode: 0 Status: OK CheckDir: RNASeqPower.Rcheck Warnings: 0