Package: RNASeqPower Version: 1.50.0 Command: /Library/Frameworks/R.framework/Resources/bin/R CMD INSTALL RNASeqPower StartedAt: 2025-11-03 15:08:56 -0500 (Mon, 03 Nov 2025) EndedAt: 2025-11-03 15:09:17 -0500 (Mon, 03 Nov 2025) EllapsedTime: 20.2 seconds RetCode: 0 Status: OK