Package: RNASeqPower Version: 1.48.0 Command: /home/biocbuild/R/R/bin/R CMD INSTALL RNASeqPower StartedAt: 2025-10-13 20:12:21 -0000 (Mon, 13 Oct 2025) EndedAt: 2025-10-13 20:12:36 -0000 (Mon, 13 Oct 2025) EllapsedTime: 14.8 seconds RetCode: 0 Status: OK