Package: RNASeqPower Version: 1.48.0 Command: /home/biocbuild/R/R/bin/R CMD build --keep-empty-dirs --no-resave-data RNASeqPower StartedAt: 2025-10-14 04:08:35 -0000 (Tue, 14 Oct 2025) EndedAt: 2025-10-14 04:08:39 -0000 (Tue, 14 Oct 2025) EllapsedTime: 4.0 seconds RetCode: 0 Status: OK PackageFile: RNASeqPower_1.48.0.tar.gz PackageFileSize: 181.8 KiB