Package: RNAAgeCalc Version: 1.22.0 Command: /home/biocbuild/bbs-3.22-bioc/R/bin/R CMD build --keep-empty-dirs --no-resave-data --md5 RNAAgeCalc StartedAt: 2025-11-11 19:48:25 -0500 (Tue, 11 Nov 2025) EndedAt: 2025-11-11 19:49:35 -0500 (Tue, 11 Nov 2025) EllapsedTime: 70.0 seconds RetCode: 0 Status: OK PackageFile: RNAAgeCalc_1.22.0.tar.gz PackageFileSize: 3.321 MiB