Package: RNAAgeCalc Version: 1.22.0 Command: /Library/Frameworks/R.framework/Resources/bin/R CMD INSTALL RNAAgeCalc StartedAt: 2025-10-30 15:49:34 -0400 (Thu, 30 Oct 2025) EndedAt: 2025-10-30 15:50:34 -0400 (Thu, 30 Oct 2025) EllapsedTime: 59.4 seconds RetCode: 0 Status: OK