Package: RNAAgeCalc Version: 1.22.0 Command: rm -rf RNAAgeCalc.buildbin-libdir && mkdir RNAAgeCalc.buildbin-libdir && /Users/biocbuild/BBS/utils/build-universal.sh RNAAgeCalc_1.22.0.tar.gz /Library/Frameworks/R.framework/Resources/bin/R RNAAgeCalc.buildbin-libdir StartedAt: 2025-10-31 01:44:01 -0400 (Fri, 31 Oct 2025) EndedAt: 2025-10-31 01:45:15 -0400 (Fri, 31 Oct 2025) EllapsedTime: 73.7 seconds RetCode: 0 Status: OK PackageFile: RNAAgeCalc_1.22.0.tgz PackageFileSize: 3.472 MiB