Package: RNAAgeCalc Version: 1.20.0 Command: /home/biocbuild/R/R/bin/R CMD INSTALL RNAAgeCalc StartedAt: 2025-10-09 21:18:29 -0000 (Thu, 09 Oct 2025) EndedAt: 2025-10-09 21:19:40 -0000 (Thu, 09 Oct 2025) EllapsedTime: 71.6 seconds RetCode: 0 Status: OK