Package: RNAAgeCalc Version: 1.20.0 Command: /home/biocbuild/R/R/bin/R CMD build --keep-empty-dirs --no-resave-data RNAAgeCalc StartedAt: 2025-10-10 04:01:26 -0000 (Fri, 10 Oct 2025) EndedAt: 2025-10-10 04:03:05 -0000 (Fri, 10 Oct 2025) EllapsedTime: 99.0 seconds RetCode: 0 Status: OK PackageFile: RNAAgeCalc_1.20.0.tar.gz PackageFileSize: 3.34 MiB