Package: RNAAgeCalc Version: 1.20.0 Command: /Library/Frameworks/R.framework/Resources/bin/R CMD INSTALL RNAAgeCalc StartedAt: 2025-10-13 18:27:10 -0400 (Mon, 13 Oct 2025) EndedAt: 2025-10-13 18:28:15 -0400 (Mon, 13 Oct 2025) EllapsedTime: 64.9 seconds RetCode: 0 Status: OK