Package: RNAAgeCalc Version: 1.20.0 Command: rm -rf RNAAgeCalc.buildbin-libdir && mkdir RNAAgeCalc.buildbin-libdir && /Users/biocbuild/BBS/utils/build-universal.sh RNAAgeCalc_1.20.0.tar.gz /Library/Frameworks/R.framework/Resources/bin/R RNAAgeCalc.buildbin-libdir StartedAt: 2025-10-15 20:11:38 -0400 (Wed, 15 Oct 2025) EndedAt: 2025-10-15 20:12:48 -0400 (Wed, 15 Oct 2025) EllapsedTime: 70.1 seconds RetCode: 0 Status: OK PackageFile: RNAAgeCalc_1.20.0.tgz PackageFileSize: 3.472 MiB