Package: RNAAgeCalc Version: 1.22.0 Maintainer: Xu Ren MaintainerEmail: xuren2120 at gmail.com git_url: https://git.bioconductor.org/packages/RNAAgeCalc git_branch: RELEASE_3_22 git_last_commit: 5d0a53a git_last_commit_date: 2025-10-29 10:57:30 -0400 (Wed, 29 Oct 2025)