Package: RMassBank Version: 3.20.0 Command: /home/biocbuild/bbs-3.22-bioc/R/bin/R CMD build --keep-empty-dirs --no-resave-data --md5 RMassBank StartedAt: 2025-11-11 19:47:55 -0500 (Tue, 11 Nov 2025) EndedAt: 2025-11-11 19:54:52 -0500 (Tue, 11 Nov 2025) EllapsedTime: 416.3 seconds RetCode: 0 Status: OK PackageFile: RMassBank_3.20.0.tar.gz PackageFileSize: 1.849 MiB