Package: RLassoCox Version: 1.18.0 Command: /home/biocbuild/bbs-3.22-bioc/R/bin/R CMD check --install=check:RLassoCox.install-out.txt --library=/home/biocbuild/bbs-3.22-bioc/R/site-library --timings RLassoCox_1.18.0.tar.gz StartedAt: 2025-11-15 03:39:08 -0500 (Sat, 15 Nov 2025) EndedAt: 2025-11-15 03:44:11 -0500 (Sat, 15 Nov 2025) EllapsedTime: 303.4 seconds RetCode: 0 Status: OK CheckDir: RLassoCox.Rcheck Warnings: 0