Package: RLassoCox Version: 1.18.0 Command: /home/biocbuild/bbs-3.22-bioc/R/bin/R CMD build --keep-empty-dirs --no-resave-data --md5 RLassoCox StartedAt: 2025-11-11 19:47:33 -0500 (Tue, 11 Nov 2025) EndedAt: 2025-11-11 19:48:51 -0500 (Tue, 11 Nov 2025) EllapsedTime: 78.1 seconds RetCode: 0 Status: OK PackageFile: RLassoCox_1.18.0.tar.gz PackageFileSize: 2.006 MiB