Package: RLassoCox Version: 1.18.0 Command: /Library/Frameworks/R.framework/Resources/bin/R CMD INSTALL RLassoCox StartedAt: 2025-11-03 15:12:47 -0500 (Mon, 03 Nov 2025) EndedAt: 2025-11-03 15:13:57 -0500 (Mon, 03 Nov 2025) EllapsedTime: 70.7 seconds RetCode: 0 Status: OK