Package: RLassoCox Version: 1.18.0 Command: /Library/Frameworks/R.framework/Resources/bin/R CMD build --keep-empty-dirs --no-resave-data RLassoCox StartedAt: 2025-11-03 18:29:26 -0500 (Mon, 03 Nov 2025) EndedAt: 2025-11-03 18:30:43 -0500 (Mon, 03 Nov 2025) EllapsedTime: 76.5 seconds RetCode: 0 Status: OK PackageFile: RLassoCox_1.18.0.tar.gz PackageFileSize: 1.966 MiB