Package: RLassoCox Version: 1.18.0 Command: rm -rf RLassoCox.buildbin-libdir && mkdir RLassoCox.buildbin-libdir && /Users/biocbuild/BBS/utils/build-universal.sh RLassoCox_1.18.0.tar.gz /Library/Frameworks/R.framework/Resources/bin/R RLassoCox.buildbin-libdir StartedAt: 2025-11-04 01:59:49 -0500 (Tue, 04 Nov 2025) EndedAt: 2025-11-04 02:00:01 -0500 (Tue, 04 Nov 2025) EllapsedTime: 12.6 seconds RetCode: 0 Status: OK PackageFile: RLassoCox_1.18.0.tgz PackageFileSize: 1.992 MiB