Package: RLMM Version: 1.72.0 Command: /home/biocbuild/bbs-3.22-bioc/R/bin/R CMD INSTALL RLMM StartedAt: 2025-11-13 15:03:04 -0500 (Thu, 13 Nov 2025) EndedAt: 2025-11-13 15:03:14 -0500 (Thu, 13 Nov 2025) EllapsedTime: 10.4 seconds RetCode: 0 Status: OK