Package: RLMM Version: 1.72.0 Command: /home/biocbuild/bbs-3.22-bioc/R/bin/R CMD check --install=check:RLMM.install-out.txt --library=/home/biocbuild/bbs-3.22-bioc/R/site-library --timings RLMM_1.72.0.tar.gz StartedAt: 2025-11-18 07:49:48 -0500 (Tue, 18 Nov 2025) EndedAt: 2025-11-18 07:50:08 -0500 (Tue, 18 Nov 2025) EllapsedTime: 20.0 seconds RetCode: 0 Status: OK CheckDir: RLMM.Rcheck Warnings: 0