Package: RLMM Version: 1.72.0 Command: /home/biocbuild/bbs-3.22-bioc/R/bin/R CMD build --keep-empty-dirs --no-resave-data --md5 RLMM StartedAt: 2025-11-13 19:46:08 -0500 (Thu, 13 Nov 2025) EndedAt: 2025-11-13 19:46:14 -0500 (Thu, 13 Nov 2025) EllapsedTime: 6.0 seconds RetCode: 0 Status: OK PackageFile: RLMM_1.72.0.tar.gz PackageFileSize: 420.5 KiB