Package: RLMM Version: 1.72.0 Command: /Library/Frameworks/R.framework/Resources/bin/R CMD INSTALL RLMM StartedAt: 2025-11-03 15:09:42 -0500 (Mon, 03 Nov 2025) EndedAt: 2025-11-03 15:10:22 -0500 (Mon, 03 Nov 2025) EllapsedTime: 40.2 seconds RetCode: 0 Status: OK