Package: RLMM Version: 1.72.0 Command: /Library/Frameworks/R.framework/Resources/bin/R CMD build --keep-empty-dirs --no-resave-data RLMM StartedAt: 2025-11-03 18:29:36 -0500 (Mon, 03 Nov 2025) EndedAt: 2025-11-03 18:29:50 -0500 (Mon, 03 Nov 2025) EllapsedTime: 13.7 seconds RetCode: 0 Status: OK PackageFile: RLMM_1.72.0.tar.gz PackageFileSize: 419.1 KiB