Package: RLMM Version: 1.70.0 Command: /home/biocbuild/R/R/bin/R CMD INSTALL RLMM StartedAt: 2025-10-13 20:13:10 -0000 (Mon, 13 Oct 2025) EndedAt: 2025-10-13 20:13:36 -0000 (Mon, 13 Oct 2025) EllapsedTime: 25.8 seconds RetCode: 0 Status: OK